BEGIN:VCALENDAR
VERSION:2.0
PRODID:-//Tiger Brand Yoga - ECPv6.15.20//NONSGML v1.0//EN
CALSCALE:GREGORIAN
METHOD:PUBLISH
X-WR-CALNAME:Tiger Brand Yoga
X-ORIGINAL-URL:https://tigerbrandyoga.com
X-WR-CALDESC:Events for Tiger Brand Yoga
REFRESH-INTERVAL;VALUE=DURATION:PT1H
X-Robots-Tag:noindex
X-PUBLISHED-TTL:PT1H
BEGIN:VTIMEZONE
TZID:Europe/Stockholm
BEGIN:DAYLIGHT
TZOFFSETFROM:+0100
TZOFFSETTO:+0200
TZNAME:CEST
DTSTART:20210328T010000
END:DAYLIGHT
BEGIN:STANDARD
TZOFFSETFROM:+0200
TZOFFSETTO:+0100
TZNAME:CET
DTSTART:20211031T010000
END:STANDARD
BEGIN:DAYLIGHT
TZOFFSETFROM:+0100
TZOFFSETTO:+0200
TZNAME:CEST
DTSTART:20220327T010000
END:DAYLIGHT
BEGIN:STANDARD
TZOFFSETFROM:+0200
TZOFFSETTO:+0100
TZNAME:CET
DTSTART:20221030T010000
END:STANDARD
BEGIN:DAYLIGHT
TZOFFSETFROM:+0100
TZOFFSETTO:+0200
TZNAME:CEST
DTSTART:20230326T010000
END:DAYLIGHT
BEGIN:STANDARD
TZOFFSETFROM:+0200
TZOFFSETTO:+0100
TZNAME:CET
DTSTART:20231029T010000
END:STANDARD
END:VTIMEZONE
BEGIN:VEVENT
DTSTART;TZID=Europe/Stockholm:20220712T180000
DTEND;TZID=Europe/Stockholm:20220712T190000
DTSTAMP:20260420T133335
CREATED:20220519T111608Z
LAST-MODIFIED:20220519T113328Z
UID:12932-1657648800-1657652400@tigerbrandyoga.com
SUMMARY:Tiger Brand Yoga Online : Alcamo\, Sicily
DESCRIPTION:Tiger brand yoga online : Live from Alcamo\, Sicily \nJuly 12 : Haṭha Yoga \nJuly 19: Yin Yoga \nJuly 26:  Dharma Gentle \nAug 2 : Darma Level 1
URL:https://tigerbrandyoga.com/eventcalendar/online-alcamo/
LOCATION:Tiger Brand Yoga Online\, Sweden
ATTACH;FMTTYPE=image/png:https://tigerbrandyoga.com/wp-content/uploads/2022/05/BW-me.png
ORGANIZER;CN="Christian Scaraglino":MAILTO:info@tigerbrandyoga.com
END:VEVENT
END:VCALENDAR