BEGIN:VCALENDAR
VERSION:2.0
PRODID:-//Tiger Brand Yoga - ECPv6.15.20//NONSGML v1.0//EN
CALSCALE:GREGORIAN
METHOD:PUBLISH
X-ORIGINAL-URL:https://tigerbrandyoga.com
X-WR-CALDESC:Events for Tiger Brand Yoga
REFRESH-INTERVAL;VALUE=DURATION:PT1H
X-Robots-Tag:noindex
X-PUBLISHED-TTL:PT1H
BEGIN:VTIMEZONE
TZID:Europe/Stockholm
BEGIN:DAYLIGHT
TZOFFSETFROM:+0100
TZOFFSETTO:+0200
TZNAME:CEST
DTSTART:20190331T010000
END:DAYLIGHT
BEGIN:STANDARD
TZOFFSETFROM:+0200
TZOFFSETTO:+0100
TZNAME:CET
DTSTART:20191027T010000
END:STANDARD
BEGIN:DAYLIGHT
TZOFFSETFROM:+0100
TZOFFSETTO:+0200
TZNAME:CEST
DTSTART:20200329T010000
END:DAYLIGHT
BEGIN:STANDARD
TZOFFSETFROM:+0200
TZOFFSETTO:+0100
TZNAME:CET
DTSTART:20201025T010000
END:STANDARD
BEGIN:DAYLIGHT
TZOFFSETFROM:+0100
TZOFFSETTO:+0200
TZNAME:CEST
DTSTART:20210328T010000
END:DAYLIGHT
BEGIN:STANDARD
TZOFFSETFROM:+0200
TZOFFSETTO:+0100
TZNAME:CET
DTSTART:20211031T010000
END:STANDARD
BEGIN:DAYLIGHT
TZOFFSETFROM:+0100
TZOFFSETTO:+0200
TZNAME:CEST
DTSTART:20220327T010000
END:DAYLIGHT
BEGIN:STANDARD
TZOFFSETFROM:+0200
TZOFFSETTO:+0100
TZNAME:CET
DTSTART:20221030T010000
END:STANDARD
BEGIN:DAYLIGHT
TZOFFSETFROM:+0100
TZOFFSETTO:+0200
TZNAME:CEST
DTSTART:20230326T010000
END:DAYLIGHT
BEGIN:STANDARD
TZOFFSETFROM:+0200
TZOFFSETTO:+0100
TZNAME:CET
DTSTART:20231029T010000
END:STANDARD
BEGIN:DAYLIGHT
TZOFFSETFROM:+0100
TZOFFSETTO:+0200
TZNAME:CEST
DTSTART:20240331T010000
END:DAYLIGHT
BEGIN:STANDARD
TZOFFSETFROM:+0200
TZOFFSETTO:+0100
TZNAME:CET
DTSTART:20241027T010000
END:STANDARD
BEGIN:DAYLIGHT
TZOFFSETFROM:+0100
TZOFFSETTO:+0200
TZNAME:CEST
DTSTART:20250330T010000
END:DAYLIGHT
BEGIN:STANDARD
TZOFFSETFROM:+0200
TZOFFSETTO:+0100
TZNAME:CET
DTSTART:20251026T010000
END:STANDARD
BEGIN:DAYLIGHT
TZOFFSETFROM:+0100
TZOFFSETTO:+0200
TZNAME:CEST
DTSTART:20260329T010000
END:DAYLIGHT
BEGIN:STANDARD
TZOFFSETFROM:+0200
TZOFFSETTO:+0100
TZNAME:CET
DTSTART:20261025T010000
END:STANDARD
END:VTIMEZONE
BEGIN:VTIMEZONE
TZID:Europe/Rome
BEGIN:DAYLIGHT
TZOFFSETFROM:+0100
TZOFFSETTO:+0200
TZNAME:CEST
DTSTART:20220327T010000
END:DAYLIGHT
BEGIN:STANDARD
TZOFFSETFROM:+0200
TZOFFSETTO:+0100
TZNAME:CET
DTSTART:20221030T010000
END:STANDARD
BEGIN:DAYLIGHT
TZOFFSETFROM:+0100
TZOFFSETTO:+0200
TZNAME:CEST
DTSTART:20230326T010000
END:DAYLIGHT
BEGIN:STANDARD
TZOFFSETFROM:+0200
TZOFFSETTO:+0100
TZNAME:CET
DTSTART:20231029T010000
END:STANDARD
BEGIN:DAYLIGHT
TZOFFSETFROM:+0100
TZOFFSETTO:+0200
TZNAME:CEST
DTSTART:20240331T010000
END:DAYLIGHT
BEGIN:STANDARD
TZOFFSETFROM:+0200
TZOFFSETTO:+0100
TZNAME:CET
DTSTART:20241027T010000
END:STANDARD
END:VTIMEZONE
BEGIN:VEVENT
DTSTART;TZID=Europe/Stockholm:20200728T190000
DTEND;TZID=Europe/Stockholm:20200728T194500
DTSTAMP:20260423T003100
CREATED:20200603T084238Z
LAST-MODIFIED:20220517T214214Z
UID:8496-1595962800-1595965500@tigerbrandyoga.com
SUMMARY:Tiger Brand Yoga Online - Prāṇāyāma & Meditation  Course
DESCRIPTION:  \nThis is a 8 week online course.\nGet a brief introduction to the Subtle Body anatomy and the Chakra system. \nYou will learn the traditional  Haṭha Yoga techniques of \nPrāṇāyāma (Breathing)\nDhyāna Techniques (Meditation).\nWe will dive into deeper meditations practices as taught by Dharma Mittra. \nThe requirements for the course: An open mind! Willingness to practice\, the Yama of Ahiṃsā. \nWhat you will get ?\n\nAn introduction to the history and terms of Prāṇāyāma and the 8 limb Path\,  Energy Centers (Cakras).\nThe Subtle Body (Nādī)  and the Different breathing  and Meditation techniques.\nA Brief lecture on the terms and the background history (2 lectures).\nBreathing Techniques including Alternate Nostril Breathing.\nThe Dharma Mittra Psychic Development Techniques of Breathing\, concentration and meditation.\nA weekly meeting of 45 min via Zoom call so you can do this at any time\, and access to the recorded classes.\n\n\n\n\n    \n\n  \nThe Weekly Schedule\n\nWeek 1  –   Lecture on the history of Cakras (aka Chakras) and introduction to tantric ideas and the subtle body\nWeek 2  –   Introduction to Prāṇāyāma Mudras and breathing techniques\, we will practice some of these techniques\nWeek 3  –   Prāṇāyāma Practice (you will practice this routine all week)\nWeek 4  –   Prāṇāyāma Practice (you will practice this routine all week)\nWeek 5  –   Prāṇāyāma Practice (you will practice this routine all week)\nWeek 6  –   Introduction to the Yama of Ahiṃsā  & Psychic development\, and mantras (you will practice all week)\nWeek 7  –   Psychic development\, and mantras (you will practice all week)\nWeek 8  –   Psychic development\, and mantras (you will practice all week) final questions & answers\n\n\nTimes\nClasses Jun 9 – 30 at 18:30 CET – 19:15 CET\nClasses Jul 7 – 28  at 19:00 CET – 19:45 CET\n\nInvestment\n600 SEK  for all 8 session \n+ plus access to watch the recorded sessions at your leisure throughout the whole summer. \nJoin the mailing list and get a code for 10% discount\n\n 
URL:https://tigerbrandyoga.com/eventcalendar/tiger-brand-yoga-online-pra%e1%b9%87ayama-meditation-course/
LOCATION:Tiger Brand Yoga
CATEGORIES:Online,Tiger Brand Yoga Online
ATTACH;FMTTYPE=image/png:https://tigerbrandyoga.com/wp-content/uploads/2020/06/My-Post-2.png
END:VEVENT
BEGIN:VEVENT
DTSTART;VALUE=DATE:20200911
DTEND;VALUE=DATE:20200914
DTSTAMP:20260423T003100
CREATED:20200824T100534Z
LAST-MODIFIED:20220517T202006Z
UID:8767-1599782400-1600041599@tigerbrandyoga.com
SUMMARY:Yoga Immersion Weekend
DESCRIPTION:When : 11th – 13th of September\nInvestment : 1300 kr\n(*1100 kr Early Bird price until 31st of August)\n\nDo you want to kickstart your practice after the summer? Would you like to spend a long weekend on the mat\, deepening your practice? Or do you just like doing a lot of Yoga? Then this weekend is for you!\nImmerse yourself in 10 hours of yoga over 3 days. Develop your practice while exploring a balancing\, strengthening and relaxing program with different yoga styles\, postures\, breathing exercises and meditation. It includes a Hot workshop and a personalized Dharma Yoga workshop for the group. \n  \n \nFriday\n17:00-18:30     Hot Class\nSaturday\n8:00-8:45         Breathing & Meditation\n9:00-10:15       Yin Morning Class\n11:00-13:00     HOT+ Workshop\n\nSunday\n9:00-9:45         Breathing & Meditation\n10:00-11:15     Dharma Morning Class\n12:00-14:00     Dharma Workshop\n14:00-14:45     Yoga Nidra
URL:https://tigerbrandyoga.com/eventcalendar/yoga-immersion-weekend/
LOCATION:Hot Yoga Malmö\, Kattsundsgatan 8\, Malmö\, Skåne\, 211 26\, Sweden
CATEGORIES:Hot Yoga Malmo,Workshop
ATTACH;FMTTYPE=image/png:https://tigerbrandyoga.com/wp-content/uploads/2020/04/HYM-logo-670x480-Featured-image.png
ORGANIZER;CN="Tiger Brand Yoga":MAILTO:info@tigerbrandyoga.com
END:VEVENT
BEGIN:VEVENT
DTSTART;VALUE=DATE:20210829
DTEND;VALUE=DATE:20210906
DTSTAMP:20260423T003100
CREATED:20210521T190448Z
LAST-MODIFIED:20220418T135243Z
UID:8809-1630195200-1630886399@tigerbrandyoga.com
SUMMARY:Sicilian Yoga Adventure - Book Sicily
DESCRIPTION:Reserve your interest here.
URL:https://tigerbrandyoga.com/eventcalendar/sicily2021/
LOCATION:Sicily\, Castellammare\, Sicily\, Italy
CATEGORIES:Retreats,Yoga Class
ATTACH;FMTTYPE=image/jpeg:https://tigerbrandyoga.com/wp-content/uploads/2019/10/Sicily2019-0884-scaled.jpg
ORGANIZER;CN="Tiger Brand Yoga":MAILTO:info@tigerbrandyoga.com
END:VEVENT
BEGIN:VEVENT
DTSTART;TZID=Europe/Stockholm:20220712T180000
DTEND;TZID=Europe/Stockholm:20220712T190000
DTSTAMP:20260423T003100
CREATED:20220519T111608Z
LAST-MODIFIED:20220519T113328Z
UID:12932-1657648800-1657652400@tigerbrandyoga.com
SUMMARY:Tiger Brand Yoga Online : Alcamo\, Sicily
DESCRIPTION:Tiger brand yoga online : Live from Alcamo\, Sicily \nJuly 12 : Haṭha Yoga \nJuly 19: Yin Yoga \nJuly 26:  Dharma Gentle \nAug 2 : Darma Level 1
URL:https://tigerbrandyoga.com/eventcalendar/online-alcamo/
LOCATION:Tiger Brand Yoga Online\, Sweden
ATTACH;FMTTYPE=image/png:https://tigerbrandyoga.com/wp-content/uploads/2022/05/BW-me.png
ORGANIZER;CN="Christian Scaraglino":MAILTO:info@tigerbrandyoga.com
END:VEVENT
BEGIN:VEVENT
DTSTART;VALUE=DATE:20230827
DTEND;VALUE=DATE:20230904
DTSTAMP:20260423T003100
CREATED:20220418T135210Z
LAST-MODIFIED:20240112T154606Z
UID:9100-1693094400-1693785599@tigerbrandyoga.com
SUMMARY:Sicilian Yoga Adventure
DESCRIPTION: \n\n\nReserve your interest here.
URL:https://tigerbrandyoga.com/eventcalendar/sicilian-yoga-adventure/
LOCATION:Sicily\, Castellammare\, Sicily\, Italy
CATEGORIES:Retreats
ORGANIZER;CN="Tiger Brand Yoga":MAILTO:info@tigerbrandyoga.com
END:VEVENT
BEGIN:VEVENT
DTSTART;VALUE=DATE:20240629
DTEND;VALUE=DATE:20240711
DTSTAMP:20260423T003100
CREATED:20240112T154537Z
LAST-MODIFIED:20250127T193340Z
UID:13387-1719619200-1720655999@tigerbrandyoga.com
SUMMARY:Sicilian Yoga Adventure : Experience It Together
DESCRIPTION:
URL:https://tigerbrandyoga.com/eventcalendar/sicilian-yoga-adventure-experience-it-together/
LOCATION:Sicily\, Castellammare\, Sicily\, Italy
CATEGORIES:Retreats
ATTACH;FMTTYPE=image/png:https://tigerbrandyoga.com/wp-content/uploads/2024/01/Sicily-2022-3-INsta-copy.png
ORGANIZER;CN="Christian Scaraglino":MAILTO:info@tigerbrandyoga.com
END:VEVENT
BEGIN:VEVENT
DTSTART;VALUE=DATE:20250831
DTEND;VALUE=DATE:20250908
DTSTAMP:20260423T003100
CREATED:20250127T193930Z
LAST-MODIFIED:20250128T132621Z
UID:13539-1756598400-1757289599@tigerbrandyoga.com
SUMMARY:Sicilian Yoga Adventure 2025
DESCRIPTION:
URL:https://tigerbrandyoga.com/eventcalendar/sicily-25/
LOCATION:Sicily\, Castellammare\, Sicily\, Italy
CATEGORIES:Retreats
ATTACH;FMTTYPE=image/png:https://tigerbrandyoga.com/wp-content/uploads/2025/01/Sicily-2025.png
ORGANIZER;CN="Tiger Brand Yoga":MAILTO:info@tigerbrandyoga.com
END:VEVENT
END:VCALENDAR