BEGIN:VCALENDAR
VERSION:2.0
PRODID:-//Tiger Brand Yoga - ECPv6.15.20//NONSGML v1.0//EN
CALSCALE:GREGORIAN
METHOD:PUBLISH
X-ORIGINAL-URL:https://tigerbrandyoga.com
X-WR-CALDESC:Events for Tiger Brand Yoga
REFRESH-INTERVAL;VALUE=DURATION:PT1H
X-Robots-Tag:noindex
X-PUBLISHED-TTL:PT1H
BEGIN:VTIMEZONE
TZID:Europe/Stockholm
BEGIN:DAYLIGHT
TZOFFSETFROM:+0100
TZOFFSETTO:+0200
TZNAME:CEST
DTSTART:20200329T010000
END:DAYLIGHT
BEGIN:STANDARD
TZOFFSETFROM:+0200
TZOFFSETTO:+0100
TZNAME:CET
DTSTART:20201025T010000
END:STANDARD
BEGIN:DAYLIGHT
TZOFFSETFROM:+0100
TZOFFSETTO:+0200
TZNAME:CEST
DTSTART:20210328T010000
END:DAYLIGHT
BEGIN:STANDARD
TZOFFSETFROM:+0200
TZOFFSETTO:+0100
TZNAME:CET
DTSTART:20211031T010000
END:STANDARD
BEGIN:DAYLIGHT
TZOFFSETFROM:+0100
TZOFFSETTO:+0200
TZNAME:CEST
DTSTART:20220327T010000
END:DAYLIGHT
BEGIN:STANDARD
TZOFFSETFROM:+0200
TZOFFSETTO:+0100
TZNAME:CET
DTSTART:20221030T010000
END:STANDARD
END:VTIMEZONE
BEGIN:VEVENT
DTSTART;VALUE=DATE:20210829
DTEND;VALUE=DATE:20210906
DTSTAMP:20260421T103101
CREATED:20210521T190448Z
LAST-MODIFIED:20220418T135243Z
UID:8809-1630195200-1630886399@tigerbrandyoga.com
SUMMARY:Sicilian Yoga Adventure - Book Sicily
DESCRIPTION:Reserve your interest here.
URL:https://tigerbrandyoga.com/eventcalendar/sicily2021/
LOCATION:Sicily\, Castellammare\, Sicily\, Italy
CATEGORIES:Retreats,Yoga Class
ATTACH;FMTTYPE=image/jpeg:https://tigerbrandyoga.com/wp-content/uploads/2019/10/Sicily2019-0884-scaled.jpg
ORGANIZER;CN="Tiger Brand Yoga":MAILTO:info@tigerbrandyoga.com
END:VEVENT
END:VCALENDAR