BEGIN:VCALENDAR
VERSION:2.0
PRODID:-//Tiger Brand Yoga - ECPv6.15.20//NONSGML v1.0//EN
CALSCALE:GREGORIAN
METHOD:PUBLISH
X-WR-CALNAME:Tiger Brand Yoga
X-ORIGINAL-URL:https://tigerbrandyoga.com
X-WR-CALDESC:Events for Tiger Brand Yoga
REFRESH-INTERVAL;VALUE=DURATION:PT1H
X-Robots-Tag:noindex
X-PUBLISHED-TTL:PT1H
BEGIN:VTIMEZONE
TZID:Europe/Stockholm
BEGIN:DAYLIGHT
TZOFFSETFROM:+0100
TZOFFSETTO:+0200
TZNAME:CEST
DTSTART:20190331T010000
END:DAYLIGHT
BEGIN:STANDARD
TZOFFSETFROM:+0200
TZOFFSETTO:+0100
TZNAME:CET
DTSTART:20191027T010000
END:STANDARD
BEGIN:DAYLIGHT
TZOFFSETFROM:+0100
TZOFFSETTO:+0200
TZNAME:CEST
DTSTART:20200329T010000
END:DAYLIGHT
BEGIN:STANDARD
TZOFFSETFROM:+0200
TZOFFSETTO:+0100
TZNAME:CET
DTSTART:20201025T010000
END:STANDARD
BEGIN:DAYLIGHT
TZOFFSETFROM:+0100
TZOFFSETTO:+0200
TZNAME:CEST
DTSTART:20210328T010000
END:DAYLIGHT
BEGIN:STANDARD
TZOFFSETFROM:+0200
TZOFFSETTO:+0100
TZNAME:CET
DTSTART:20211031T010000
END:STANDARD
END:VTIMEZONE
BEGIN:VEVENT
DTSTART;TZID=Europe/Stockholm:20200714T190000
DTEND;TZID=Europe/Stockholm:20200714T194500
DTSTAMP:20260422T131454
CREATED:20200603T084609Z
LAST-MODIFIED:20220517T214322Z
UID:8494-1594753200-1594755900@tigerbrandyoga.com
SUMMARY:Tiger Brand Yoga Online - Prāṇāyāma & Meditation  Course
DESCRIPTION:  \nThis is a 8 week online course.\nGet a brief introduction to the Subtle Body anatomy and the Chakra system. \nYou will learn the traditional  Haṭha Yoga techniques of \nPrāṇāyāma (Breathing)\nDhyāna Techniques (Meditation).\nWe will dive into deeper meditations practices as taught by Dharma Mittra. \nThe requirements for the course: An open mind! Willingness to practice\, the Yama of Ahiṃsā. \nWhat you will get ?\n\nAn introduction to the history and terms of Prāṇāyāma and the 8 limb Path\,  Energy Centers (Cakras).\nThe Subtle Body (Nādī)  and the Different breathing  and Meditation techniques.\nA Brief lecture on the terms and the background history (2 lectures).\nBreathing Techniques including Alternate Nostril Breathing.\nThe Dharma Mittra Psychic Development Techniques of Breathing\, concentration and meditation.\nA weekly meeting of 45 min via Zoom call so you can do this at any time\, and access to the recorded classes.\n\n\n\n\n    \n\nThe Weekly Schedule\n\nWeek 1  –   Lecture on the history of Cakras (aka Chakras) and introduction to tantric ideas and the subtle body\nWeek 2  –   Introduction to Prāṇāyāma Mudras and breathing techniques\, we will practice some of these techniques\nWeek 3  –   Prāṇāyāma Practice (you will practice this routine all week)\nWeek 4  –   Prāṇāyāma Practice (you will practice this routine all week)\nWeek 5  –   Prāṇāyāma Practice (you will practice this routine all week)\nWeek 6  –   Introduction to the Yama of Ahiṃsā  & Psychic development\, and mantras (you will practice all week)\nWeek 7  –   Psychic development\, and mantras (you will practice all week)\nWeek 8  –   Psychic development\, and mantras (you will practice all week) final questions & answers\n\n\nTimes\nClasses Jun 9 – 30 at 18:30 CET – 19:15 CET\nClasses Jul 7 – 28  at 19:00 CET – 19:45 CET\n\nInvestment\n600 SEK  for all 8 session \n+ plus access to watch the recorded sessions at your leisure throughout the whole summer. \nJoin the mailing list and get a code for 10% discount
URL:https://tigerbrandyoga.com/eventcalendar/tiger-brand-yoga-online-pra%e1%b9%87ayama-meditation-course-3/
LOCATION:Tiger Brand Yoga
CATEGORIES:Online,Tiger Brand Yoga Online
ATTACH;FMTTYPE=image/png:https://tigerbrandyoga.com/wp-content/uploads/2020/06/My-Post-2.png
END:VEVENT
END:VCALENDAR