BEGIN:VCALENDAR
VERSION:2.0
PRODID:-//Tiger Brand Yoga - ECPv6.15.20//NONSGML v1.0//EN
CALSCALE:GREGORIAN
METHOD:PUBLISH
X-ORIGINAL-URL:https://tigerbrandyoga.com
X-WR-CALDESC:Events for Tiger Brand Yoga
REFRESH-INTERVAL;VALUE=DURATION:PT1H
X-Robots-Tag:noindex
X-PUBLISHED-TTL:PT1H
BEGIN:VTIMEZONE
TZID:Europe/Stockholm
BEGIN:DAYLIGHT
TZOFFSETFROM:+0100
TZOFFSETTO:+0200
TZNAME:CEST
DTSTART:20190331T010000
END:DAYLIGHT
BEGIN:STANDARD
TZOFFSETFROM:+0200
TZOFFSETTO:+0100
TZNAME:CET
DTSTART:20191027T010000
END:STANDARD
BEGIN:DAYLIGHT
TZOFFSETFROM:+0100
TZOFFSETTO:+0200
TZNAME:CEST
DTSTART:20200329T010000
END:DAYLIGHT
BEGIN:STANDARD
TZOFFSETFROM:+0200
TZOFFSETTO:+0100
TZNAME:CET
DTSTART:20201025T010000
END:STANDARD
BEGIN:DAYLIGHT
TZOFFSETFROM:+0100
TZOFFSETTO:+0200
TZNAME:CEST
DTSTART:20210328T010000
END:DAYLIGHT
BEGIN:STANDARD
TZOFFSETFROM:+0200
TZOFFSETTO:+0100
TZNAME:CET
DTSTART:20211031T010000
END:STANDARD
END:VTIMEZONE
BEGIN:VEVENT
DTSTART;TZID=Europe/Stockholm:20200620T160000
DTEND;TZID=Europe/Stockholm:20200620T171500
DTSTAMP:20260422T150818
CREATED:20200603T093342Z
LAST-MODIFIED:20220517T214548Z
UID:8480-1592668800-1592673300@tigerbrandyoga.com
SUMMARY:Tiger Brand Yoga Online - Dharma Yoga  Class
DESCRIPTION:Tiger Brand Yoga Online – Signature online class\nThis is an all level class. We will do an opening Bhakti Meditation. Then you will be guided through sun salutations and a warm up vinyasa and we will follow with classic Haṭha yoga postures. We will end with a long relaxation Nidra and breathing and meditation. \n  \n\n\n\n    \n \n  \nDharma Yoga\nDharma Yoga is a graceful\, yet challenging form of yoga based on Sri Dharma Mittra’s almost 50 years of practice of classical yoga. The practice is appropriate for students of all levels\, from beginner to lifelong practitioners\, and is accessible to so many because it meets each student where they are and according to their condition. \n 
URL:https://tigerbrandyoga.com/eventcalendar/tiger-brand-yoga-online-dharma-yoga-class-3/
LOCATION:Tiger Brand Yoga Online\, Sweden
CATEGORIES:Online,Tiger Brand Yoga Online
ATTACH;FMTTYPE=image/png:https://tigerbrandyoga.com/wp-content/uploads/2020/04/TBY-ONline.png
END:VEVENT
END:VCALENDAR